BEGIN:VCALENDAR
VERSION:2.0
PRODID:-//Sanaristikkoseura Sanasepot ry - ECPv6.15.20//NONSGML v1.0//EN
CALSCALE:GREGORIAN
METHOD:PUBLISH
X-WR-CALNAME:Sanaristikkoseura Sanasepot ry
X-ORIGINAL-URL:https://www.sanasepot.fi
X-WR-CALDESC:Tapahtumat Sanaristikkoseura Sanasepot ry
REFRESH-INTERVAL;VALUE=DURATION:PT1H
X-Robots-Tag:noindex
X-PUBLISHED-TTL:PT1H
BEGIN:VTIMEZONE
TZID:Europe/Helsinki
BEGIN:DAYLIGHT
TZOFFSETFROM:+0200
TZOFFSETTO:+0300
TZNAME:EEST
DTSTART:20250330T010000
END:DAYLIGHT
BEGIN:STANDARD
TZOFFSETFROM:+0300
TZOFFSETTO:+0200
TZNAME:EET
DTSTART:20251026T010000
END:STANDARD
BEGIN:DAYLIGHT
TZOFFSETFROM:+0200
TZOFFSETTO:+0300
TZNAME:EEST
DTSTART:20260329T010000
END:DAYLIGHT
BEGIN:STANDARD
TZOFFSETFROM:+0300
TZOFFSETTO:+0200
TZNAME:EET
DTSTART:20261025T010000
END:STANDARD
BEGIN:DAYLIGHT
TZOFFSETFROM:+0200
TZOFFSETTO:+0300
TZNAME:EEST
DTSTART:20270328T010000
END:DAYLIGHT
BEGIN:STANDARD
TZOFFSETFROM:+0300
TZOFFSETTO:+0200
TZNAME:EET
DTSTART:20271031T010000
END:STANDARD
END:VTIMEZONE
BEGIN:VEVENT
DTSTART;TZID=Europe/Helsinki:20260504T170000
DTEND;TZID=Europe/Helsinki:20260504T190000
DTSTAMP:20260419T204720
CREATED:20230501T192040Z
LAST-MODIFIED:20260416T120246Z
UID:1837-1777914000-1777921200@www.sanasepot.fi
SUMMARY:Mikkelin paikalliskerho
DESCRIPTION:
URL:https://www.sanasepot.fi/tapahtuma/mikkelin-paikalliskerho/
LOCATION:Mikkelin kaupunginkirjasto\, Raatihuoneenkatu 6\, Mikkeli\, 50100
END:VEVENT
BEGIN:VEVENT
DTSTART;TZID=Europe/Helsinki:20260506T143000
DTEND;TZID=Europe/Helsinki:20260506T163000
DTSTAMP:20260419T204720
CREATED:20230501T192219Z
LAST-MODIFIED:20260406T080010Z
UID:1839-1778077800-1778085000@www.sanasepot.fi
SUMMARY:Tampereen paikalliskerho
DESCRIPTION:
URL:https://www.sanasepot.fi/tapahtuma/tampereen-paikalliskerho-3/
LOCATION:Kahvila Amurin helmi\, Satakunnankatu 49\, Tampere\, 33230
END:VEVENT
BEGIN:VEVENT
DTSTART;TZID=Europe/Helsinki:20260506T160000
DTEND;TZID=Europe/Helsinki:20260506T180000
DTSTAMP:20260419T204720
CREATED:20230329T124100Z
LAST-MODIFIED:20260406T080100Z
UID:1712-1778083200-1778090400@www.sanasepot.fi
SUMMARY:Uudenkaupungin paikalliskerho
DESCRIPTION:
URL:https://www.sanasepot.fi/tapahtuma/uudenkaupungin-paikalliskerho/
LOCATION:Paapuuri\, Alinenkatu 23
END:VEVENT
BEGIN:VEVENT
DTSTART;TZID=Europe/Helsinki:20260507T160000
DTEND;TZID=Europe/Helsinki:20260507T180000
DTSTAMP:20260419T204720
CREATED:20230329T123601Z
LAST-MODIFIED:20260406T080142Z
UID:1705-1778169600-1778176800@www.sanasepot.fi
SUMMARY:Oulun paikalliskerho
DESCRIPTION:
URL:https://www.sanasepot.fi/tapahtuma/oulun-paikalliskerho-2/
LOCATION:D-asema\, Valtatie 53\, Oulu\, 90500
END:VEVENT
BEGIN:VEVENT
DTSTART;TZID=Europe/Helsinki:20260511T150000
DTEND;TZID=Europe/Helsinki:20260511T170000
DTSTAMP:20260419T204720
CREATED:20230329T131344Z
LAST-MODIFIED:20260416T120033Z
UID:1734-1778511600-1778518800@www.sanasepot.fi
SUMMARY:Porin paikalliskerho
DESCRIPTION:
URL:https://www.sanasepot.fi/tapahtuma/porin-paikalliskerho/
LOCATION:Porin kaupunginkirjasto\, kahvila Helmi\, Gallen-Kallelankatu 12\, 28100 Pori\, Finland
END:VEVENT
BEGIN:VEVENT
DTSTART;TZID=Europe/Helsinki:20260511T170000
DTEND;TZID=Europe/Helsinki:20260511T190000
DTSTAMP:20260419T204720
CREATED:20230330T142115Z
LAST-MODIFIED:20260416T120158Z
UID:1739-1778518800-1778526000@www.sanasepot.fi
SUMMARY:Lappeenrannan paikalliskerho
DESCRIPTION:
URL:https://www.sanasepot.fi/tapahtuma/lappeenrannan-paikalliskerho/
LOCATION:Ravintola Lamppu\, Kauppakatu 27
END:VEVENT
BEGIN:VEVENT
DTSTART;TZID=Europe/Helsinki:20260512T171500
DTEND;TZID=Europe/Helsinki:20260512T191500
DTSTAMP:20260419T204720
CREATED:20230329T124317Z
LAST-MODIFIED:20260416T120347Z
UID:1715-1778606100-1778613300@www.sanasepot.fi
SUMMARY:Vaasan paikalliskerho
DESCRIPTION:
URL:https://www.sanasepot.fi/tapahtuma/vaasan-paikalliskerho/
LOCATION:Vaasan kaupunginkirjasto työtila Iso Dialogi
END:VEVENT
BEGIN:VEVENT
DTSTART;TZID=Europe/Helsinki:20260513T180000
DTEND;TZID=Europe/Helsinki:20260513T200000
DTSTAMP:20260419T204720
CREATED:20230902T134428Z
LAST-MODIFIED:20260416T115935Z
UID:2228-1778695200-1778702400@www.sanasepot.fi
SUMMARY:Hämeenlinnan paikalliskerho - Kanta-Hämeen Sanasepot
DESCRIPTION:
URL:https://www.sanasepot.fi/tapahtuma/hameenlinnan-paikalliskerho-kanta-hameen-sanasepot/
LOCATION:Dragon Chinese Restaurant\, Raatihuoneenkatu 8\, Hämeenlinna\, 13100
END:VEVENT
END:VCALENDAR