BEGIN:VCALENDAR
VERSION:2.0
PRODID:-//Sanaristikkoseura Sanasepot ry - ECPv6.15.20//NONSGML v1.0//EN
CALSCALE:GREGORIAN
METHOD:PUBLISH
X-WR-CALNAME:Sanaristikkoseura Sanasepot ry
X-ORIGINAL-URL:https://www.sanasepot.fi
X-WR-CALDESC:Tapahtumat Sanaristikkoseura Sanasepot ry
REFRESH-INTERVAL;VALUE=DURATION:PT1H
X-Robots-Tag:noindex
X-PUBLISHED-TTL:PT1H
BEGIN:VTIMEZONE
TZID:Europe/Helsinki
BEGIN:DAYLIGHT
TZOFFSETFROM:+0200
TZOFFSETTO:+0300
TZNAME:EEST
DTSTART:20250330T010000
END:DAYLIGHT
BEGIN:STANDARD
TZOFFSETFROM:+0300
TZOFFSETTO:+0200
TZNAME:EET
DTSTART:20251026T010000
END:STANDARD
BEGIN:DAYLIGHT
TZOFFSETFROM:+0200
TZOFFSETTO:+0300
TZNAME:EEST
DTSTART:20260329T010000
END:DAYLIGHT
BEGIN:STANDARD
TZOFFSETFROM:+0300
TZOFFSETTO:+0200
TZNAME:EET
DTSTART:20261025T010000
END:STANDARD
BEGIN:DAYLIGHT
TZOFFSETFROM:+0200
TZOFFSETTO:+0300
TZNAME:EEST
DTSTART:20270328T010000
END:DAYLIGHT
BEGIN:STANDARD
TZOFFSETFROM:+0300
TZOFFSETTO:+0200
TZNAME:EET
DTSTART:20271031T010000
END:STANDARD
END:VTIMEZONE
BEGIN:VEVENT
DTSTART;TZID=Europe/Helsinki:20260512T171500
DTEND;TZID=Europe/Helsinki:20260512T191500
DTSTAMP:20260419T172324
CREATED:20230329T124317Z
LAST-MODIFIED:20260416T120347Z
UID:1715-1778606100-1778613300@www.sanasepot.fi
SUMMARY:Vaasan paikalliskerho
DESCRIPTION:
URL:https://www.sanasepot.fi/tapahtuma/vaasan-paikalliskerho/
LOCATION:Vaasan kaupunginkirjasto työtila Iso Dialogi
END:VEVENT
END:VCALENDAR