BEGIN:VCALENDAR
VERSION:2.0
PRODID:-//Sanaristikkoseura Sanasepot ry - ECPv6.15.20//NONSGML v1.0//EN
CALSCALE:GREGORIAN
METHOD:PUBLISH
X-WR-CALNAME:Sanaristikkoseura Sanasepot ry
X-ORIGINAL-URL:https://www.sanasepot.fi
X-WR-CALDESC:Tapahtumat Sanaristikkoseura Sanasepot ry
REFRESH-INTERVAL;VALUE=DURATION:PT1H
X-Robots-Tag:noindex
X-PUBLISHED-TTL:PT1H
BEGIN:VTIMEZONE
TZID:Europe/Helsinki
BEGIN:DAYLIGHT
TZOFFSETFROM:+0200
TZOFFSETTO:+0300
TZNAME:EEST
DTSTART:20250330T010000
END:DAYLIGHT
BEGIN:STANDARD
TZOFFSETFROM:+0300
TZOFFSETTO:+0200
TZNAME:EET
DTSTART:20251026T010000
END:STANDARD
BEGIN:DAYLIGHT
TZOFFSETFROM:+0200
TZOFFSETTO:+0300
TZNAME:EEST
DTSTART:20260329T010000
END:DAYLIGHT
BEGIN:STANDARD
TZOFFSETFROM:+0300
TZOFFSETTO:+0200
TZNAME:EET
DTSTART:20261025T010000
END:STANDARD
BEGIN:DAYLIGHT
TZOFFSETFROM:+0200
TZOFFSETTO:+0300
TZNAME:EEST
DTSTART:20270328T010000
END:DAYLIGHT
BEGIN:STANDARD
TZOFFSETFROM:+0300
TZOFFSETTO:+0200
TZNAME:EET
DTSTART:20271031T010000
END:STANDARD
END:VTIMEZONE
BEGIN:VEVENT
DTSTART;TZID=Europe/Helsinki:20260421T163000
DTEND;TZID=Europe/Helsinki:20260421T183000
DTSTAMP:20260419T154821
CREATED:20230329T123920Z
LAST-MODIFIED:20260326T180740Z
UID:1710-1776789000-1776796200@www.sanasepot.fi
SUMMARY:Turun paikalliskerho
DESCRIPTION:
URL:https://www.sanasepot.fi/tapahtuma/turun-paikalliskerho-2/
LOCATION:Panimoravintola Koulu\, Eerikinkatu 18\, Turku\, 20100
END:VEVENT
BEGIN:VEVENT
DTSTART;TZID=Europe/Helsinki:20260421T180000
DTEND;TZID=Europe/Helsinki:20260421T200000
DTSTAMP:20260419T154821
CREATED:20230329T123158Z
LAST-MODIFIED:20260326T180839Z
UID:1696-1776794400-1776801600@www.sanasepot.fi
SUMMARY:Lahden paikalliskerho
DESCRIPTION:
URL:https://www.sanasepot.fi/tapahtuma/lahden-paikalliskerho/
LOCATION:Ravintola Santa Fé\, Torikatu 1\, 2. kerros\, Lahti\, 15110
END:VEVENT
END:VCALENDAR