BEGIN:VCALENDAR
VERSION:2.0
PRODID:-//Sanaristikkoseura Sanasepot ry - ECPv6.15.20//NONSGML v1.0//EN
CALSCALE:GREGORIAN
METHOD:PUBLISH
X-WR-CALNAME:Sanaristikkoseura Sanasepot ry
X-ORIGINAL-URL:https://www.sanasepot.fi
X-WR-CALDESC:Tapahtumat Sanaristikkoseura Sanasepot ry
REFRESH-INTERVAL;VALUE=DURATION:PT1H
X-Robots-Tag:noindex
X-PUBLISHED-TTL:PT1H
BEGIN:VTIMEZONE
TZID:Europe/Helsinki
BEGIN:DAYLIGHT
TZOFFSETFROM:+0200
TZOFFSETTO:+0300
TZNAME:EEST
DTSTART:20250330T010000
END:DAYLIGHT
BEGIN:STANDARD
TZOFFSETFROM:+0300
TZOFFSETTO:+0200
TZNAME:EET
DTSTART:20251026T010000
END:STANDARD
BEGIN:DAYLIGHT
TZOFFSETFROM:+0200
TZOFFSETTO:+0300
TZNAME:EEST
DTSTART:20260329T010000
END:DAYLIGHT
BEGIN:STANDARD
TZOFFSETFROM:+0300
TZOFFSETTO:+0200
TZNAME:EET
DTSTART:20261025T010000
END:STANDARD
BEGIN:DAYLIGHT
TZOFFSETFROM:+0200
TZOFFSETTO:+0300
TZNAME:EEST
DTSTART:20270328T010000
END:DAYLIGHT
BEGIN:STANDARD
TZOFFSETFROM:+0300
TZOFFSETTO:+0200
TZNAME:EET
DTSTART:20271031T010000
END:STANDARD
END:VTIMEZONE
BEGIN:VEVENT
DTSTART;TZID=Europe/Helsinki:20260420T163000
DTEND;TZID=Europe/Helsinki:20260420T183000
DTSTAMP:20260419T155108
CREATED:20230501T190853Z
LAST-MODIFIED:20260326T180607Z
UID:1827-1776702600-1776709800@www.sanasepot.fi
SUMMARY:Kajaanin paikalliskerho
DESCRIPTION:
URL:https://www.sanasepot.fi/tapahtuma/kajaanin-paikalliskerho-2/
LOCATION:Cafe Mokka\, Lönnrotinkatu 18\, Kajaani\, 87100
END:VEVENT
BEGIN:VEVENT
DTSTART;TZID=Europe/Helsinki:20260420T170000
DTEND;TZID=Europe/Helsinki:20260420T190000
DTSTAMP:20260419T155108
CREATED:20230329T122105Z
LAST-MODIFIED:20260326T180656Z
UID:1688-1776704400-1776711600@www.sanasepot.fi
SUMMARY:Helsingin paikalliskerho
DESCRIPTION:
URL:https://www.sanasepot.fi/tapahtuma/helsingin-paikalliskerho/
LOCATION:Viikinkiravintola Harald\, Aleksanterinkatu 21\, Helsinki\, 00100
END:VEVENT
END:VCALENDAR