BEGIN:VCALENDAR
VERSION:2.0
PRODID:-//Sanaristikkoseura Sanasepot ry - ECPv6.15.20//NONSGML v1.0//EN
CALSCALE:GREGORIAN
METHOD:PUBLISH
X-WR-CALNAME:Sanaristikkoseura Sanasepot ry
X-ORIGINAL-URL:https://www.sanasepot.fi
X-WR-CALDESC:Tapahtumat Sanaristikkoseura Sanasepot ry
REFRESH-INTERVAL;VALUE=DURATION:PT1H
X-Robots-Tag:noindex
X-PUBLISHED-TTL:PT1H
BEGIN:VTIMEZONE
TZID:Europe/Helsinki
BEGIN:DAYLIGHT
TZOFFSETFROM:+0200
TZOFFSETTO:+0300
TZNAME:EEST
DTSTART:20230326T010000
END:DAYLIGHT
BEGIN:STANDARD
TZOFFSETFROM:+0300
TZOFFSETTO:+0200
TZNAME:EET
DTSTART:20231029T010000
END:STANDARD
BEGIN:DAYLIGHT
TZOFFSETFROM:+0200
TZOFFSETTO:+0300
TZNAME:EEST
DTSTART:20240331T010000
END:DAYLIGHT
BEGIN:STANDARD
TZOFFSETFROM:+0300
TZOFFSETTO:+0200
TZNAME:EET
DTSTART:20241027T010000
END:STANDARD
BEGIN:DAYLIGHT
TZOFFSETFROM:+0200
TZOFFSETTO:+0300
TZNAME:EEST
DTSTART:20250330T010000
END:DAYLIGHT
BEGIN:STANDARD
TZOFFSETFROM:+0300
TZOFFSETTO:+0200
TZNAME:EET
DTSTART:20251026T010000
END:STANDARD
END:VTIMEZONE
BEGIN:VEVENT
DTSTART;TZID=Europe/Helsinki:20240307T160000
DTEND;TZID=Europe/Helsinki:20240307T180000
DTSTAMP:20260426T011724
CREATED:20230808T175913Z
LAST-MODIFIED:20240128T102244Z
UID:1940-1709827200-1709834400@www.sanasepot.fi
SUMMARY:Oulun paikalliskerho
DESCRIPTION:
URL:https://www.sanasepot.fi/tapahtuma/oulun-paikalliskerho-6/
LOCATION:D-asema\, Valtatie 53\, Oulu\, 90500
END:VEVENT
END:VCALENDAR